BEGIN:VCALENDAR
VERSION:2.0
PRODID:-//Let&#039;s Buy The Amulet - ECPv6.15.18//NONSGML v1.0//EN
CALSCALE:GREGORIAN
METHOD:PUBLISH
X-ORIGINAL-URL:https://buytheamulet.org.uk
X-WR-CALDESC:Events for Let&#039;s Buy The Amulet
REFRESH-INTERVAL;VALUE=DURATION:PT1H
X-Robots-Tag:noindex
X-PUBLISHED-TTL:PT1H
BEGIN:VTIMEZONE
TZID:Europe/London
BEGIN:DAYLIGHT
TZOFFSETFROM:+0000
TZOFFSETTO:+0100
TZNAME:BST
DTSTART:20250330T010000
END:DAYLIGHT
BEGIN:STANDARD
TZOFFSETFROM:+0100
TZOFFSETTO:+0000
TZNAME:GMT
DTSTART:20251026T010000
END:STANDARD
BEGIN:DAYLIGHT
TZOFFSETFROM:+0000
TZOFFSETTO:+0100
TZNAME:BST
DTSTART:20260329T010000
END:DAYLIGHT
BEGIN:STANDARD
TZOFFSETFROM:+0100
TZOFFSETTO:+0000
TZNAME:GMT
DTSTART:20261025T010000
END:STANDARD
BEGIN:DAYLIGHT
TZOFFSETFROM:+0000
TZOFFSETTO:+0100
TZNAME:BST
DTSTART:20270328T010000
END:DAYLIGHT
BEGIN:STANDARD
TZOFFSETFROM:+0100
TZOFFSETTO:+0000
TZNAME:GMT
DTSTART:20271031T010000
END:STANDARD
END:VTIMEZONE
BEGIN:VEVENT
DTSTART;TZID=Europe/London:20260529T193000
DTEND;TZID=Europe/London:20260529T213000
DTSTAMP:20260420T133917
CREATED:20260416T144606Z
LAST-MODIFIED:20260418T225324Z
UID:1925-1780083000-1780090200@buytheamulet.org.uk
SUMMARY:Ekleido – Splice/Rorschach double bill
DESCRIPTION:Join professional dance company Ekleido for a breathtaking double bill dance performance incorporating voguing\, bonebreaking and threading club/street dance styles and featuring original music by world-renowned electronic musician FloatingPoints. \nEkleido usually perform in major dance venues but were selected and funded by the Rural Touring Dance Initiative and Arts Council England to adapt their show for a national rural venue tour in 2026. Let’s Buy The Amulet were delighted to have hosted Ekleido last October for a week-long residency here in Shepton Mallet as part of those preparations\, and to now be hosting the full performances on their national tour. \nOpening the programme is Ekleido’s critically acclaimed Splice in which two dancers find the balance between limitation and possibility to solve a physical puzzle. \nCompleting the bill is Rorschach\, a trio that reimagines the iconic Rorschach inkblot test. In this work\, you encounter a future society where individuals are subjected to a mandatory Rorschach trial—a journey of self-revelation and survival where participants confront psychological endurance\, moral compass\, and physical limitations.  \nTickets: https://www.ticketsource.com/take-art/ekleido-splice-rorschach-double-bill/2026-05-29/19:30/t-lddpaja \nDoors Open at 7:00PM\nStarts at 7:30PM
URL:https://buytheamulet.org.uk/event/ekleido-splice-rorschach-double-bill/
LOCATION:Shepton Mallet Leisure Centre\, 11 Charlton Road\, Shepton Mallet\, Somerset\, BA4 5PG\, United Kingdom
CATEGORIES:Community,Dance
ATTACH;FMTTYPE=image/jpeg:https://buytheamulet.org.uk/wp-content/uploads/Event-Cinema-Images-41.jpeg
ORGANIZER;CN="Take Art":MAILTO:info@takeart.org
END:VEVENT
END:VCALENDAR