BEGIN:VCALENDAR
VERSION:2.0
PRODID:-//Let&#039;s Buy The Amulet - ECPv6.15.18//NONSGML v1.0//EN
CALSCALE:GREGORIAN
METHOD:PUBLISH
X-ORIGINAL-URL:https://buytheamulet.org.uk
X-WR-CALDESC:Events for Let&#039;s Buy The Amulet
REFRESH-INTERVAL;VALUE=DURATION:PT1H
X-Robots-Tag:noindex
X-PUBLISHED-TTL:PT1H
BEGIN:VTIMEZONE
TZID:Europe/London
BEGIN:DAYLIGHT
TZOFFSETFROM:+0000
TZOFFSETTO:+0100
TZNAME:BST
DTSTART:20240331T010000
END:DAYLIGHT
BEGIN:STANDARD
TZOFFSETFROM:+0100
TZOFFSETTO:+0000
TZNAME:GMT
DTSTART:20241027T010000
END:STANDARD
BEGIN:DAYLIGHT
TZOFFSETFROM:+0000
TZOFFSETTO:+0100
TZNAME:BST
DTSTART:20250330T010000
END:DAYLIGHT
BEGIN:STANDARD
TZOFFSETFROM:+0100
TZOFFSETTO:+0000
TZNAME:GMT
DTSTART:20251026T010000
END:STANDARD
BEGIN:DAYLIGHT
TZOFFSETFROM:+0000
TZOFFSETTO:+0100
TZNAME:BST
DTSTART:20260329T010000
END:DAYLIGHT
BEGIN:STANDARD
TZOFFSETFROM:+0100
TZOFFSETTO:+0000
TZNAME:GMT
DTSTART:20261025T010000
END:STANDARD
END:VTIMEZONE
BEGIN:VEVENT
DTSTART;TZID=Europe/London:20251025T190000
DTEND;TZID=Europe/London:20251025T210000
DTSTAMP:20260420T144656
CREATED:20251006T093817Z
LAST-MODIFIED:20260416T145132Z
UID:1652-1761418800-1761426000@buytheamulet.org.uk
SUMMARY:Ekleido Live Dance & Residency
DESCRIPTION:Professional dance company Ekleido are undertaking a one-week residency in Shepton Mallet in mid-October. They will be adapting two of their breathtaking performances that incorporate voguing\, bonebreaking and threading club/street dance styles and that are usually performed in major dance venues\, ready to undertake a national rural venue tour next year under the Rural Touring Dance Initiative. Shepton Mallet’s Let’s Buy the Amulet and Make The Sunshine organisations joined forces and are excited to be co-ordinating the residency together with Take Art – Somerset’s rural touring charity. The residency will include some community engagement activity at Create@#8 with local groups and public events finishing with a full performance in Croscombe Village Hall on Saturday 25th October. \n\nJoin creative duo Ekleido for a mesmerising dance experience featuring original music by world-renowned electronic musician Floating Points.  Immerse yourself in a spellbinding display of impressive acrobatics\, bodily contortions\, dazzling costumes and spectacular lights. Ekleido’s club-inspired magic will make this a night to remember! \n\n\n\n\n\nOpening the programme is Ekleido’s critically acclaimed Splice in which two dancers find the balance between limitation and possibility to solve a physical puzzle. \nCompleting the evening is Rorschach\, a trio that reimagines the iconic Rorschach inkblot test. In this work\, we encounter a future society where individuals are subjected to a mandatory Rorschach trial—a journey of self-revelation and survival where participants confront psychological endurance\, moral compass\, and physical limitations.  \nEkleido is a choreographic duo made up of Hannah Ekholm and Faye Stoeser choreographing for live performance and film. They have both individually had extensive dance careers within the contemporary dance world\, commercial industry and underground club dance scenes\, often crossing paths with each other on projects including Rambert\, Years & Years and within The Ballroom Scene. \n \nEkleido’s work has been performed in venues and festivals including: Sadler’s Wells Breakin’ Convention\, Glastonbury Festival\, Latitude Festival\, The Place\, Ministry of Sound Ballet Nights\, and Fairfield Halls. Commercial credits include: Saul Nash\, Marc Jacobs\, Maison Margiela\, NIKE\, RAYE\, British Vogue\, Daniel Avery\, La Roux. \n\nTo prepare for their main dance performance\, Ekleido are holding a residency at Create@#8\, Shepton Mallet.  Local people are invited to take part through a FREE dance workshop for ages 10 to 19 on Monday 20th and a FREE drop-in mini performance on Wednesday 22nd. \nFree Dance Workshop for ages 10 to 19\nMonday 20th October 4pm to 6pm\nat Create@#8\nsign up here:\nhttps://fb.me/e/615s5O8SA \nMini performance with Q&A\nWednesday 22nd October 4pm to 5pm\nat Create@#8\nno need to book\, just turn up \nDance Experience – Crosscombe Village Hall\nSaturday 25th October 7pm\nBuy tickets here:\nhttps://takeart.org/event/splice-rorschach-ekleido\n \nVideos and reviews here:\nhttps://theplace.org.uk/events/autumn-24-ekleido-dance-company \nEkleido website here:\nhttps://www.ekleido.co.uk
URL:https://buytheamulet.org.uk/event/ekleido-dance/
LOCATION:Croscombe Village Hall\, Fayre Way\, Croscombe\, Somerset\, BA5 3RJ\, United Kingdom
CATEGORIES:Community,Dance
ATTACH;FMTTYPE=image/jpeg:https://buytheamulet.org.uk/wp-content/uploads/EkleidoWebsite4.jpg
ORGANIZER;CN="Let's Buy The Amulet":MAILTO:info@buytheamulet.org.uk
END:VEVENT
END:VCALENDAR